BEGIN:VCALENDAR
VERSION:2.0
PRODID:-//Lorenzo&#039;s - ECPv6.15.20//NONSGML v1.0//EN
CALSCALE:GREGORIAN
METHOD:PUBLISH
X-WR-CALNAME:Lorenzo&#039;s
X-ORIGINAL-URL:https://lorenzos.net
X-WR-CALDESC:Events for Lorenzo&#039;s
REFRESH-INTERVAL;VALUE=DURATION:PT1H
X-Robots-Tag:noindex
X-PUBLISHED-TTL:PT1H
BEGIN:VTIMEZONE
TZID:America/New_York
BEGIN:DAYLIGHT
TZOFFSETFROM:-0500
TZOFFSETTO:-0400
TZNAME:EDT
DTSTART:20250309T070000
END:DAYLIGHT
BEGIN:STANDARD
TZOFFSETFROM:-0400
TZOFFSETTO:-0500
TZNAME:EST
DTSTART:20251102T060000
END:STANDARD
BEGIN:DAYLIGHT
TZOFFSETFROM:-0500
TZOFFSETTO:-0400
TZNAME:EDT
DTSTART:20260308T070000
END:DAYLIGHT
BEGIN:STANDARD
TZOFFSETFROM:-0400
TZOFFSETTO:-0500
TZNAME:EST
DTSTART:20261101T060000
END:STANDARD
BEGIN:DAYLIGHT
TZOFFSETFROM:-0500
TZOFFSETTO:-0400
TZNAME:EDT
DTSTART:20270314T070000
END:DAYLIGHT
BEGIN:STANDARD
TZOFFSETFROM:-0400
TZOFFSETTO:-0500
TZNAME:EST
DTSTART:20271107T060000
END:STANDARD
END:VTIMEZONE
BEGIN:VEVENT
DTSTART;TZID=America/New_York:20260422T180000
DTEND;TZID=America/New_York:20260422T180000
DTSTAMP:20260422T050247
CREATED:20260217T164232Z
LAST-MODIFIED:20260407T170746Z
UID:21838-1776880800-1776880800@lorenzos.net
SUMMARY:Trivia
DESCRIPTION:
URL:https://lorenzos.net/event/trivia-11/
END:VEVENT
BEGIN:VEVENT
DTSTART;TZID=America/New_York:20260429T180000
DTEND;TZID=America/New_York:20260429T180000
DTSTAMP:20260422T050247
CREATED:20260407T170904Z
LAST-MODIFIED:20260407T170904Z
UID:22314-1777485600-1777485600@lorenzos.net
SUMMARY:Trivia
DESCRIPTION:
URL:https://lorenzos.net/event/trivia/
END:VEVENT
END:VCALENDAR